BEGIN:VCALENDAR
VERSION:2.0
CALSCALE:GREGORIAN
PRODID:-//Diputació de Barcelona//DibaCMS//EN
BEGIN:VEVENT
UID:3630
DTSTAMP:20260422T041539
DTSTART:20260425T190000
DTEND:20260425T190000
SUMMARY:Presentació del llibre Els arbres no s'ho mereixen
LOCATION:
METHOD:PUBLISH
X-WR-CALNAME:castellcir@castellcir.cat
X-WR-TIMEZONE:Europe/Madrid
DESCRIPTION:Amb l'autor, el castellcirenc Pol Estrada.

Dissabte 25 d'abril, 19 h, a la Sala Sant Jordi

URI:https://www.castellcir.cat/actualitat/agenda/presentacio-del-llibre-els-arbres-no-sho-mereixen.html
CLASS:PUBLIC
END:VEVENT
END:VCALENDAR
